BEGIN:VCALENDAR
VERSION:2.0
PRODID:-//EightOS bodymind operating system — ∞OS - ECPv4.8.0.1//NONSGML v1.0//EN
CALSCALE:GREGORIAN
METHOD:PUBLISH
X-WR-CALNAME:EightOS bodymind operating system — ∞OS
X-ORIGINAL-URL:https://8os.io/ru
X-WR-CALDESC:Events for EightOS bodymind operating system — ∞OS
BEGIN:VEVENT
DTSTART;TZID=UTC+0:20190323T173000
DTEND;TZID=UTC+0:20190324T180000
DTSTAMP:20240119T221510
CREATED:20181209T210713Z
LAST-MODIFIED:20181209T210851Z
UID:1532-1553362200-1553450400@8os.io
SUMMARY:∞ОС Активация: Динамика неравновесной стабильности
DESCRIPTION:[vc_row][vc_column width=»6/12″][vc_column_text]Эта двухдневная программа (4 часа ежедневно) открыта как тем\, у кого нет опыта с ∞ОС\, так и тем\, кто уже знает основы практики. В рамках этой программы мы углубимся в теорию динамических систем и увидим\, как она может быть использована для генерации и внедрения в своё поведение новых шаблонов поведения уровне тела и восприятия. Мы изучим понятие неравновесной стабильности\, эскалации/деэскалации и конфликта как источника творческой энергии с помощью которой можно модулировать потоки взаимодействия. Эта программа соединяет в себе как практическую\, так и физическую часть и будет интересна на многих уровнях. \n[/vc_column_text][vc_raw_html]JTNDdGl0by13aWRnZXQlMjBldmVudCUzRCUyMjhvcyUyRmFjdGl2YXRpb24lMjIlM0UlM0MlMkZ0aXRvLXdpZGdldCUzRSUwQQ==[/vc_raw_html] \n[vc_column_text] \nОписание Программы \nСуббота\, 16 Марта\, 2019\n12:00 PM — 1:00 PM\nDay 1 | 1. Основные принципы движения ∞OS\n1:00 PM — 2:00 PM\nDay 1 | 2. Интерактивные упражнения в группах\n2:00 PM — 3:00 PM\nDay 1 | 3. Перерыв: ∞OS Food\n3:00 PM — 4:00 PM\nDay 1 | 4. Теория неравновесных систем\n4:00 PM — 5:00 PM\nDay 1 | 5. Применения теории неравновесных систем в контексте движения и танца \nВоскресенье\, 17 Марта\, 2019\n1:00 PM — 2:00 PM\nDay 2 | 1. Разминка + повторение упражнений из Дня 1\n2:00 PM — 3:00 PM\nDay 2 | 2. Тактики эскалации / деэскалации\n3:00 PM — 4:00 PM\nDay 2 | 3. Перерыв на обед\n4:00 PM — 5:00 PM\nDay 2 | 4. Свлияние + теория экологичного взаимодействия\n5:00 PM — 6:00 PM\nDay 2 | 5. Свлияние + практика экологичного взаимодействия\n6:00 PM — 7:00 PM\nDay 2 | 6. Обсуждение\n7:00 PM — 8:30 PM\nDay 2 | 7. Перерыв\n8:30 PM — 11:00 PM\nDay 2 | 8. Afterparty \nТакже смотрите этот ивент на Facebook[/vc_column_text][/vc_column][vc_column width=»1/12″][/vc_column][vc_column width=»5/12″][vc_single_image image=»1498″ img_size=»large»][vc_single_image image=»1517″ img_size=»large»][vc_video link=»https://www.youtube.com/watch?v=rmNG0-StCw4″][/vc_column][/vc_row] \n
URL:https://8os.io/ru/event/activation-program-0319-ru/
LOCATION:MIME Centrum Bethanien\, Kunstquartier Bethanien\, Mariannenplatz 2\, Berlin\, Berlin\, 10997\, Germany
CATEGORIES:Программы активации
END:VEVENT
END:VCALENDAR