BEGIN:VCALENDAR
VERSION:2.0
PRODID:-//EightOS bodymind operating system — ∞OS - ECPv4.8.0.1//NONSGML v1.0//EN
CALSCALE:GREGORIAN
METHOD:PUBLISH
X-WR-CALNAME:EightOS bodymind operating system — ∞OS
X-ORIGINAL-URL:https://8os.io/ru
X-WR-CALDESC:Events for EightOS bodymind operating system — ∞OS
BEGIN:VEVENT
DTSTART;TZID=UTC+0:20171026T100000
DTEND;TZID=UTC+0:20171026T120000
DTSTAMP:20240119T221457
CREATED:20171013T121431Z
LAST-MODIFIED:20171023T120835Z
UID:706-1509012000-1509019200@8os.io
SUMMARY:∞ОС: Внедрение Новых Принципов Поведения Через Игровое Взаимодействие
DESCRIPTION:[vc_row][vc_column width=»2/3″][vc_column_text] \n\n\n\n∞ОС (эйтоэс) – операционная система для телосознания. Её основа – принципы ненапряжения\, адаптивности\, вариативности\, плавности\, которые мы внедряем в своё поведение посредством физической практики через взаимодействие с другими партнёрами.\n\n\n \n\n\n∞ОС основана на совмещении Системы рукопашного боя\, японской техники Noguchi Taiso\, медитации\, аэродинамики\, дыхательных практик и прочих подходов. Тело переводится в режим естественной работы\, основанной на волновом и спиральном движении (отсюда – 8 в названии)\, постоянном ритме и плавном перетекании из одного состояния в другое.\n\n\nМы увидим\, как с помощью ∞ОС можно более тонко чувствовать динамику взаимодействия и конфликта\, управлять им\, повышать адаптивность и устойчивость\, рассеивать излишнее напряжение\, находить выходы из сложных ситуаций.\n\n\n \n\n\nВ этот раз мы начнём с разминки на полу\, чтобы ввести тело в собранное расслабленное состояние. Затем мы будем работать с различными упражнениями\, чтобы научиться давать ровно столько напряжения\, сколько нужно\, адекватно реагировать на входящие импульсы\, уметь принимать воздействие и перенаправлять его.\n\n\n \n\n\nВоркшоп будет идти 2 часа. Приглашаются желающие всех уровней. Рекомендуем одеться в удобную одежду\, в которой приятно двигаться.\n\n\n\n[/vc_column_text][vc_empty_space][vc_column_text] \n\nЗабронировать Место\n[/vc_column_text][lab_contact_form name_title=»Имя:» message_title=»Ваш бэкграунд (например: йога\, карате\, бухучёт):» show_subject_field=»» submit_title=»Забронировать Место» submit_success=»Спасибо #\, мы свяжемся с вами!» alert_errors=»» email_receiver=»contact@8os.io»][vc_empty_space][vc_column_text][/vc_column_text][/vc_column][vc_column width=»1/3″][/vc_column][/vc_row] \n
URL:https://8os.io/ru/event/8os-retunsky/
LOCATION:Retunsky Yoga Studio\, Большой Каретный дом 8\, стр 2\, этаж 4\, домофон 24\, мансарда\, рядом бесплатная парковка\, Москва\, Russian Federation
CATEGORIES:Пробные тренинги
END:VEVENT
END:VCALENDAR