BEGIN:VCALENDAR
VERSION:2.0
PRODID:-//EightOS bodymind operating system — ∞OS - ECPv4.8.0.1//NONSGML v1.0//EN
CALSCALE:GREGORIAN
METHOD:PUBLISH
X-WR-CALNAME:EightOS bodymind operating system — ∞OS
X-ORIGINAL-URL:https://8os.io/ru
X-WR-CALDESC:Events for EightOS bodymind operating system — ∞OS
BEGIN:VEVENT
DTSTART;TZID=UTC+0:20171012T100000
DTEND;TZID=UTC+0:20171012T120000
DTSTAMP:20240119T221530
CREATED:20171008T142133Z
LAST-MODIFIED:20171009T100055Z
UID:558-1507802400-1507809600@8os.io
SUMMARY:∞ОС: Модификация Шаблонов Поведения Через Физические Практики
DESCRIPTION:[vc_row][vc_column width=»2/3″][vc_column_text] \n\n∞ОС (эйтоэс) – операционная система для телосознания. Её задача – программное обеспечение деятельности человека и его взаимодействия с окружающим.\n\n\n \n\n\nНа примере ∞ОС мы увидим\, как можно использовать физические практики для изменения шаблонов поведения и расширения пространства возможностей действия.\n\n\n \n\n\n∞ОС основана на совмещении Системы рукопашного боя\, японской техники Noguchi Taiso\, медитации\, дыхательных практик и прочих подходов. Тело переводится в режим естественной работы\, основанной на волновом и спиральном движении (отсюда – 8 в названии)\, постоянном ритме и плавном перетекании из одного состояния в другое.\n\n\nМы увидим\, как с помощью ∞ОС можно более тонко чувствовать динамику взаимодействия и конфликта\, управлять им\, повышать адаптивность и устойчивость\, рассеивать излишнее напряжение\, находить выходы из сложных ситуаций. \n\n\n \n\n\nВ парной работе мы тестируем и отрабатываем различные шаблоны поведения и взаимодействия. В процессе мы наблюдаем\, как можно применять эти принципы не только в контексте тренировок\, но и в любой другой сфере – в повседневной жизни\, в общении\, в работе. Такой подход позволяет нам ознакомиться не только с принципами ∞ОС\, но и перенастроить своё отношение к практикам вообще\, как к способу культивации себя и саморазвитию не только в рамках самих практик\, но и за их пределами. \n\nВоркшоп будет идти 2 часа. Приглашаются желающие всех уровней. Рекомендуем одеться в удобную одежду\, в которой приятно двигаться.[/vc_column_text][vc_empty_space][vc_column_text] \nЗабронировать Место\n[/vc_column_text][lab_contact_form name_title=»Имя:» message_title=»Ваш бэкграунд (например: йога\, карате\, бухучёт):» show_subject_field=»» submit_title=»Забронировать Место» submit_success=»Спасибо #\, мы свяжемся с вами!» alert_errors=»» email_receiver=»contact@8os.io»][vc_empty_space][vc_column_text][/vc_column_text][/vc_column][vc_column width=»1/3″][/vc_column][/vc_row] \n
URL:https://8os.io/ru/event/8os-retunsky-moscow/
LOCATION:Retunsky Yoga Studio\, Большой Каретный дом 8\, стр 2\, этаж 4\, домофон 24\, мансарда\, рядом бесплатная парковка\, Москва\, Russian Federation
CATEGORIES:Пробные тренинги
END:VEVENT
END:VCALENDAR