BEGIN:VCALENDAR
VERSION:2.0
PRODID:-//EightOS bodymind operating system — ∞OS - ECPv4.8.0.1//NONSGML v1.0//EN
CALSCALE:GREGORIAN
METHOD:PUBLISH
X-WR-CALNAME:EightOS bodymind operating system — ∞OS
X-ORIGINAL-URL:https://8os.io
X-WR-CALDESC:Events for EightOS bodymind operating system — ∞OS
BEGIN:VEVENT
DTSTART;TZID=UTC+0:20180223T100000
DTEND;TZID=UTC+0:20180223T120000
DTSTAMP:20240119T215943
CREATED:20180221T211146Z
LAST-MODIFIED:20180221T211146Z
UID:997-1519380000-1519387200@8os.io
SUMMARY:Tension\, Giving and Receiving. Regular Session.
DESCRIPTION:[vc_row][vc_column width=”1/2″][vc_column_text]In this session we will look into the question of generating external impulses and incoming tensions as well as reacting to them. We will experiment with the existing patterns we have and then try to implement the new patterns and compare how well they operate. We will also apply Holocracy method for structuring work into Circles (smaller groups) who will be responsible for finding an effective strategy and then sharing it with the rest of the group. The training will take place outside and will last for 2 hours.[/vc_column_text][/vc_column][vc_column width=”1/2″][/vc_column][/vc_row] \n
URL:https://8os.io/event/tension-giving-receiving/
LOCATION:∞OS Watchdog\, Schlessisches Busch\, Berlin\, 12435\, Germany
END:VEVENT
END:VCALENDAR