BEGIN:VCALENDAR
VERSION:2.0
PRODID:-//EightOS bodymind operating system — ∞OS - ECPv4.8.0.1//NONSGML v1.0//EN
CALSCALE:GREGORIAN
METHOD:PUBLISH
X-WR-CALNAME:EightOS bodymind operating system — ∞OS
X-ORIGINAL-URL:https://8os.io
X-WR-CALDESC:Events for EightOS bodymind operating system — ∞OS
BEGIN:VEVENT
DTSTART;TZID=UTC+0:20170813T150000
DTEND;TZID=UTC+0:20170813T173000
DTSTAMP:20240119T220054
CREATED:20170810T140718Z
LAST-MODIFIED:20170810T140935Z
UID:402-1502636400-1502645400@8os.io
SUMMARY:∞OS Oscillatory Interaction Approach
DESCRIPTION:[vc_row][vc_column width=”2/3″][vc_column_text]In this training we will go through a somatic experience to put the body into an altered state of consciousness\, which is calmer\, more relaxed and more sensitive to external influences. We will then practice several close-contact drills to establish a vocabulary for body intra~action and will then shift towards oscillatory interaction procedure of ∞OS: learning to play with giving in and taking over in pair exercises. \n[/vc_column_text][/vc_column][vc_column width=”1/3″][/vc_column][/vc_row] \n
URL:https://8os.io/event/oscillatory-interaction-approach/
LOCATION:Adidas Runbase\, Schleusenufer\, 4\, Berlin\, 10999\, Germany
CATEGORIES:Regular Trainings
ATTACH;FMTTYPE=image/jpeg:https://8os.io/wp-content/uploads/2017/08/kirikoo-matteo.jpg
END:VEVENT
END:VCALENDAR