BEGIN:VCALENDAR
VERSION:2.0
PRODID:-//EightOS bodymind operating system — ∞OS - ECPv4.8.0.1//NONSGML v1.0//EN
CALSCALE:GREGORIAN
METHOD:PUBLISH
X-WR-CALNAME:EightOS bodymind operating system — ∞OS
X-ORIGINAL-URL:https://8os.io
X-WR-CALDESC:Events for EightOS bodymind operating system — ∞OS
BEGIN:VEVENT
DTSTART;TZID=UTC+0:20170723T120000
DTEND;TZID=UTC+0:20170723T160000
DTSTAMP:20240119T222049
CREATED:20170706T051105Z
LAST-MODIFIED:20170714T190507Z
UID:178-1500811200-1500825600@8os.io
SUMMARY:Introduction to ∞OS
DESCRIPTION:[vc_row][vc_column width=”1/2″][vc_column_text el_class=”intro”]In this training we will introduce the basic concepts\, principles and procedures of ∞OS. This first part will take 2 hours. After a 15-minute break we will proceed to the more detailed work\, exploring the physical concepts and how they could be scaled to other contexts and realms of life.[/vc_column_text][vc_empty_space][lab_contact_form show_subject_field=”” submit_title=”Register for the Workshop” submit_success=”Thank you #\, we will be in touch soon!” alert_errors=”yes” email_receiver=”contact@8os.io”][/vc_column][vc_column width=”1/2″][/vc_column][/vc_row] \n
URL:https://8os.io/event/introduction-to-8os/
LOCATION:NYM Yoga\, Plotnikov per 5/9\, Moscow\, Moscow\, 119002\, Russian Federation
CATEGORIES:Regular Trainings
END:VEVENT
END:VCALENDAR