BEGIN:VCALENDAR
VERSION:2.0
PRODID:-//EightOS bodymind operating system — ∞OS - ECPv4.8.0.1//NONSGML v1.0//EN
CALSCALE:GREGORIAN
METHOD:PUBLISH
X-WR-CALNAME:EightOS bodymind operating system — ∞OS
X-ORIGINAL-URL:https://8os.io
X-WR-CALDESC:Events for EightOS bodymind operating system — ∞OS
BEGIN:VEVENT
DTSTART;TZID=UTC+0:20180608T160000
DTEND;TZID=UTC+0:20180805T170000
DTSTAMP:20240119T215922
CREATED:20180604T215310Z
LAST-MODIFIED:20181206T193217Z
UID:1077-1528473600-1533488400@8os.io
SUMMARY:Hidden Agency: ∞OS & Guests
DESCRIPTION:[vc_row][vc_column width=”5/12″][vc_column_text]Hidden Agency is a speculative hybrid entity set up by ∞OS team in the context of “Welt ohne Außen” exhibition at Martin Gropius Bau\, where we will explore reciprocal relations between intellectual / ethical frameworks and collective embodied practices. \nEvery time a session facilitator will introduce their practice and various ways how it weaves into ∞OS\, experimenting with a hybrid approach\, merging the two practices together\, observing the effects on the body\, on the participants\, and on the environment. \nFacilitators & Dates:\nDaniela Schmidtke (TBA)\nChristine Bolte (13 June)\nBjorn Eichhorn (16 June)\nLeandro Uria (TBA)\nDiego Agulló (TBA)\nMaru Mushtrieva (TBA)\nPedro Jardim (TBA)\nDmitry Paranyushkin (8 & 10 June 2018) \nDetailed schedule:\nhttps://www.facebook.com/events/239040366845295/ \nTickets:\nhttps://www.berlinerfestspiele.de \n+++++++++++++++++++++++++++++++++++++++++++ \nThe methodology of ∞OS approach to learning is based on translating various theoretical frameworks into physical practice in order to learn through direct experience and to transfer knowledge between different domains. The collective body-based practice becomes a medium and a playground for experiential understanding of images\, concepts and ideas. \nFocusing on the experiential modes of the human body — body-based practice\, somatosensory experience\, and material manifestations of affect and its linguistic actualisations — we set up the Hidden Agency — a speculative hybrid entity between shadow organisation\, summer training camp\, and open space for physical experience. \nHidden Agency will become a place for exploring the abstract through physical exercise and corporeal experience\, including the material/discursive intra-actions and studying the reciprocal connections between them.[/vc_column_text][/vc_column][vc_column width=”1/12″][/vc_column][vc_column width=”6/12″][vc_column_text]Sessions Calendar\n[/vc_column_text][/vc_column][/vc_row] \n
URL:https://8os.io/event/hidden-agency/
LOCATION:Martin Gropius Bau\, Niederkirchnerstraße 7\, Berlin\, Berlin\, 10963\, Germany
CATEGORIES:Custom Sessions
END:VEVENT
END:VCALENDAR