BEGIN:VCALENDAR
VERSION:2.0
PRODID:-//EightOS bodymind operating system — ∞OS - ECPv4.8.0.1//NONSGML v1.0//EN
CALSCALE:GREGORIAN
METHOD:PUBLISH
X-WR-CALNAME:EightOS bodymind operating system — ∞OS
X-ORIGINAL-URL:https://8os.io
X-WR-CALDESC:Events for EightOS bodymind operating system — ∞OS
BEGIN:VEVENT
DTSTART;TZID=UTC+0:20180312T090000
DTEND;TZID=UTC+0:20180317T180000
DTSTAMP:20240119T215933
CREATED:20180214T115850Z
LAST-MODIFIED:20181206T193227Z
UID:925-1520845200-1521309600@8os.io
SUMMARY:Building Organizational Bodymind Operating Systems
DESCRIPTION:[vc_row][vc_column width=”2/3″][vc_column_text] \nSelf-organization and conflict as a generative force \nBuilding Organizational Bodymind Operating Systems\n/In this course we will introduce the notion of operating system in the context of organizational management and personal development. //You will learn the basic principles of self organization and how to apply structures that will help you move beyond binary/linear logic without falling into chaos. \n///We will demonstrate how this analogy borrowed from the world of software development (along with the principles of agile development) can be very useful to build frameworks\, systems\, organizational principles (software)\,  which can then be applied to an organization or individual behavior (hardware). \n/////You will see multiple case studies of different operating systems based on experience based learning. \n//////We will demonstrate the best practices from the already existing operating systems\, such as holocracy\, panarchy\, art of hosting\, theory of u and ∞OS\, so you can use them as prototypes for you to build your own organizational / behavioral software. \n////////We will make a particular focus on experiential understanding and habitual learning of the ideas that we propose through physical practice and embodiment of theoretical concepts. This will allow you to bridge the gap between the intellectual understanding and real implementation. We will also make extensive use of network theory\, principles of agile development\, and dynamical systems theory as the primary tools in our collective exploratory journey. \n/////////You will learn how to create an operating system\, which is coherently designed towards fulfilling certain organizational and personal goals\, as well as the different strategies you can use to implement this operating system and achieve the desired results. \n  \nMore information about this course can be found here.[/vc_column_text][/vc_column][vc_column width=”1/3″][/vc_column][/vc_row] \n
URL:https://8os.io/event/building-organizational-bodymind-operating-systems/
LOCATION:Hyperwerk Institute for Postindustrial Design\, Gründenstrasse 40\, Basel\, 4132\, Switzerland
CATEGORIES:Custom Sessions
END:VEVENT
END:VCALENDAR