BEGIN:VCALENDAR
VERSION:2.0
PRODID:-//EightOS bodymind operating system — ∞OS - ECPv4.8.0.1//NONSGML v1.0//EN
CALSCALE:GREGORIAN
METHOD:PUBLISH
X-WR-CALNAME:EightOS bodymind operating system — ∞OS
X-ORIGINAL-URL:https://8os.io
X-WR-CALDESC:Events for EightOS bodymind operating system — ∞OS
BEGIN:VEVENT
DTSTART;TZID=UTC+0:20180107T150000
DTEND;TZID=UTC+0:20180107T170000
DTSTAMP:20240119T220057
CREATED:20180106T175207Z
LAST-MODIFIED:20180106T175246Z
UID:839-1515337200-1515344400@8os.io
SUMMARY:∞OS + Moving Hands Like Clouds
DESCRIPTION:[vc_row][vc_column width=”2/3″][vc_column_text]For this session we invite Diego Agulló to share his practice “Moving hands like clouds” and to then integrate his ideas into our ∞OS training. Here’s some description of what Diego does: \nOn this Introductory session to pushing hands practice we will exercise energy generation and listening power to increase the sensitivity to feel the direction and strength of a partner’s intention.  \n \n  \n[/vc_column_text][/vc_column][vc_column width=”1/3″][/vc_column][/vc_row] \n
URL:https://8os.io/event/8os-moving-hands-like-clouds/
LOCATION:Adidas Runbase\, Schleusenufer\, 4\, Berlin\, 10999\, Germany
CATEGORIES:Regular Trainings
END:VEVENT
END:VCALENDAR