BEGIN:VCALENDAR
VERSION:2.0
PRODID:-//EightOS bodymind operating system — ∞OS - ECPv4.8.0.1//NONSGML v1.0//EN
CALSCALE:GREGORIAN
METHOD:PUBLISH
X-WR-CALNAME:EightOS bodymind operating system — ∞OS
X-ORIGINAL-URL:https://8os.io
X-WR-CALDESC:Events for EightOS bodymind operating system — ∞OS
BEGIN:VEVENT
DTSTART;TZID=UTC+0:20170709T150000
DTEND;TZID=UTC+0:20170709T173000
DTSTAMP:20240119T222057
CREATED:20170706T145949Z
LAST-MODIFIED:20170706T150036Z
UID:204-1499612400-1499621400@8os.io
SUMMARY:∞OS Training: Working through Obstacles
DESCRIPTION:In this regular training hosted at Adidas Runbase Berlin we will continue working with tension and obstacles\, using the body and sticks to visualize tension and to see how one can create a surface for tension to slide off\, instead of fighting it with resistance. The principles of this training are scalable to other contexts and realms of intersubjective relations. \n
URL:https://8os.io/event/%e2%88%9eos-training-working-through-obstacles/
LOCATION:Adidas Runbase\, Schleusenufer\, 4\, Berlin\, 10999\, Germany
CATEGORIES:Regular Trainings
END:VEVENT
END:VCALENDAR