BEGIN:VCALENDAR
VERSION:2.0
PRODID:-//EightOS bodymind operating system — ∞OS - ECPv4.8.0.1//NONSGML v1.0//EN
CALSCALE:GREGORIAN
METHOD:PUBLISH
X-WR-CALNAME:EightOS bodymind operating system — ∞OS
X-ORIGINAL-URL:https://8os.io
X-WR-CALDESC:Events for EightOS bodymind operating system — ∞OS
BEGIN:VEVENT
DTSTART;TZID=UTC+0:20171029T150000
DTEND;TZID=UTC+0:20171029T170000
DTSTAMP:20240119T220140
CREATED:20171028T205648Z
LAST-MODIFIED:20171028T205912Z
UID:721-1509289200-1509296400@8os.io
SUMMARY:∞OS: Delivering and Receiving Impact
DESCRIPTION:[vc_row][vc_column width=”2/3″][vc_column_text]We will work on delivering and receiving impact. The main idea is to develop a practice where you can create an affect without letting it affect you back and also receiving affect in a way that localizes the impact and transmits it through the system and out of it. We will start with a general warmup and slow impact moving on to faster impact and more intensity\, combining the exercises with some wrestling and floor work to cool down and release tension. \n  \n[/vc_column_text][/vc_column][vc_column width=”1/3″][/vc_column][/vc_row] \n
URL:https://8os.io/event/%e2%88%9eos-delivering-and-receiving-impact/
LOCATION:Adidas Runbase\, Schleusenufer\, 4\, Berlin\, 10999\, Germany
CATEGORIES:Regular Trainings
END:VEVENT
END:VCALENDAR