BEGIN:VCALENDAR
VERSION:2.0
PRODID:-//EightOS bodymind operating system — ∞OS - ECPv4.8.0.1//NONSGML v1.0//EN
CALSCALE:GREGORIAN
METHOD:PUBLISH
X-WR-CALNAME:EightOS bodymind operating system — ∞OS
X-ORIGINAL-URL:https://8os.io
X-WR-CALDESC:Events for EightOS bodymind operating system — ∞OS
BEGIN:VEVENT
DTSTART;TZID=UTC+0:20170827T150000
DTEND;TZID=UTC+0:20170827T173000
DTSTAMP:20240119T220035
CREATED:20170810T144500Z
LAST-MODIFIED:20170810T144500Z
UID:418-1503846000-1503855000@8os.io
SUMMARY:∞OS Delivering and Receiving External Impact
DESCRIPTION:In this training we will look into the different strategies that can be used to deliver and receive an impact. We will look at the specific techniques that make your impact more efficient and also how you can bring a system to a new state of equilibrium using a series of impacts. We will also learn how to receive external impacts and how to regenerate from them. We will end the session with free work to give a chance to the participants to explore the newly acquired techniques in a more realistic setting. \nIt is important to note that we will constantly be looking how the concept of an “impact” can scale from a purely physical context to other realms\, where the notion of impact is more abstract: intersubjective relations\, business negotiations\, financial markets\, etc. We will try to see how the strategies that we learn can be extrapolated to other realms. \n
URL:https://8os.io/event/%e2%88%9eos-delivering-and-receiving-external-impact/
LOCATION:Adidas Runbase\, Schleusenufer\, 4\, Berlin\, 10999\, Germany
CATEGORIES:Regular Trainings
END:VEVENT
END:VCALENDAR